BEGIN:VCALENDAR
VERSION:2.0
PRODID:-//wp-events-plugin.com//7.2.3.1//EN
TZID:Europe/Paris
X-WR-TIMEZONE:Europe/Paris
BEGIN:VEVENT
UID:69@samba-nantes.fr
DTSTART;TZID=Europe/Paris:20120317T093000
DTEND;TZID=Europe/Paris:20120317T120000
DTSTAMP:20140821T153759Z
URL:https://samba-nantes.fr/events/carnaval-decole/
SUMMARY:Carnaval d'école
DESCRIPTION:
CATEGORIES:Bateria
LOCATION:Ecole saint yves\, Ecole saint yves\, Nantes\, France
GEO:47.218371;-1.553621000000021
X-APPLE-STRUCTURED-LOCATION;VALUE=URI;X-ADDRESS=Ecole saint yves\, Nantes\,
  France;X-APPLE-RADIUS=100;X-TITLE=Ecole saint yves:geo:47.218371,-1.55362
 1000000021
END:VEVENT
BEGIN:VTIMEZONE
TZID:Europe/Paris
X-LIC-LOCATION:Europe/Paris
BEGIN:STANDARD
DTSTART:20111030T020000
TZOFFSETFROM:+0200
TZOFFSETTO:+0100
TZNAME:CET
END:STANDARD
END:VTIMEZONE
END:VCALENDAR